BEGIN:VCALENDAR
PRODID:-//AT Content Types//AT Event//EN
VERSION:1.0
BEGIN:VEVENT
DTSTART:20160603T120000Z
DTEND:20160604T141500Z
DCREATED:20160210T172416Z
UID:ATEvent-ac2f7062722444b0b291a1ab9027a4f3
SEQUENCE:0
LAST-MODIFIED:20251029T101107Z
SUMMARY:Kolloquium: PRO DOMO-Art History. Vertraute von KünstlerInnen und ihre Schriften | Artists’ Confidants and their Writings
DESCRIPTION:Kolloquium: PRO DOMO-Art History. Vertraute von KünstlerI
 nnen und ihre Schriften | Artists’ Confidants and their Writings
LOCATION:Zentralinstitut für Kunstgeschichte\, Vortragsraum 242\, II. OG\, Katharina-von-Bora-Straße 10\, 80333 München
PRIORITY:3
TRANSP:0
END:VEVENT
END:VCALENDAR
