BEGIN:VCALENDAR
PRODID:-//AT Content Types//AT Event//EN
VERSION:2.0
METHOD:PUBLISH
BEGIN:VEVENT
DTSTAMP:20260423T142413Z
CREATED:20160210T171558Z
UID:ATEvent-f7c832da2215442baae82176ac9ad49f
LAST-MODIFIED:20241127T090902Z
SUMMARY:Kolloquium "Zwischen Revolution und Reaktion. Französische Kunst im europäischen Kontext\, 1750-1830"
DTSTART:20160601T113000Z
DTEND:20160601T180000Z
DESCRIPTION:Kolloquium "Zwischen Revolution und Reaktion. Französisch
 e Kunst im europäischen Kontext\, 1750-1830"
LOCATION:Zentralinstitut für Kunstgeschichte\, Vortragssaal 242\, II. OG\, Katharina-von-Bora-Straße 10\, 80333 München
CATEGORIES:2016
CLASS:PUBLIC
END:VEVENT
END:VCALENDAR
