BEGIN:VCALENDAR
PRODID:-//AT Content Types//AT Event//EN
VERSION:1.0
BEGIN:VEVENT
DTSTART:20160126T170000Z
DTEND:20160126T183000Z
DCREATED:20160118T083436Z
UID:ATEvent-3ddaf1e35bde4581bc35aa6ee7398ffd
SEQUENCE:0
LAST-MODIFIED:20190619T113729Z
SUMMARY:Künstlergespräch in der Ausstellung "Kunstgeschichte 1915. 100 Jahre Heinrich Wölfflin: Kunstgeschichtliche Grundbegriffe"
DESCRIPTION:Künstlergespräch mit Anke Doberauer in der Ausstellung "
 Kunstgeschichte 1915. 100 Jahre Heinrich Wölfflin: Kunstgeschichtlich
 e Grundbegriffe"
LOCATION:Zentralinstitut für Kunstgeschichte\, Katharina-von-Bora-Straße 10\, 80333 München\, 1. OG
PRIORITY:3
TRANSP:0
END:VEVENT
END:VCALENDAR
