BEGIN:VCALENDAR
PRODID:-//AT Content Types//AT Event//EN
VERSION:2.0
METHOD:PUBLISH
BEGIN:VEVENT
DTSTAMP:20260423T114537Z
CREATED:20160916T100209Z
UID:ATEvent-fcee0256897d4a6eb3c26f02a89fd00b
LAST-MODIFIED:20190619T144204Z
SUMMARY:Öffentliche Führung zur Geschichte des NSDAP-Parteizentrums
DTSTART:20161025T160000Z
DTEND:20161025T180000Z
DESCRIPTION:Öffentliche Führung zur Geschichte des NSDAP-Parteizentr
 ums
LOCATION:Zentralinstitut für Kunstgeschichte\, Katharina-von-Bora-Straße 10\, 80333 München\, Eingangshalle
CATEGORIES:2016
CLASS:PUBLIC
END:VEVENT
END:VCALENDAR
