BEGIN:VCALENDAR
PRODID:-//AT Content Types//AT Event//EN
VERSION:1.0
BEGIN:VEVENT
DTSTART:20160222T171500Z
DTEND:20160222T190000Z
DCREATED:20151211T161152Z
UID:ATEvent-d027aed9ce7949b0b0ea2b9cf9a06c2b
SEQUENCE:0
LAST-MODIFIED:20190619T113813Z
SUMMARY:Vortrag Catherine MacKenzie
DESCRIPTION:Vortrag Catherine MacKenzie: On the Importance of Teaching
  Provenance Studies: the Life Stories of Objects and Social Justice
LOCATION:Zentralinstitut für Kunstgeschichte\, Vortragsraum 242\, II. OG\, Katharina-von-Bora-Straße 10\, 80333 München
PRIORITY:3
TRANSP:0
END:VEVENT
END:VCALENDAR
