BEGIN:VCALENDAR
PRODID:-//AT Content Types//AT Event//EN
VERSION:1.0
BEGIN:VEVENT
DTSTART:20160120T171500Z
DTEND:20160120T190000Z
DCREATED:20150921T080949Z
UID:ATEvent-6bf81b47410a4baf81b947fbcd058234
SEQUENCE:0
LAST-MODIFIED:20250326T095900Z
SUMMARY:Vortrag Christiane Brosius
DESCRIPTION:Vortrag Christiane Brosius: Kunst im öffentlichen Raum: E
 ine Perspektive aus und auf Neu Delhi
LOCATION:Zentralinstitut für Kunstgeschichte\, Vortragsraum 242\, II. OG\, Katharina-von-Bora-Straße 10\, 80333 München
PRIORITY:3
TRANSP:0
END:VEVENT
END:VCALENDAR
