BEGIN:VCALENDAR
PRODID:-//AT Content Types//AT Event//EN
VERSION:2.0
METHOD:PUBLISH
BEGIN:VEVENT
DTSTAMP:20260425T200835Z
CREATED:20160210T171943Z
UID:ATEvent-0236c4da9ba449e5bfdd4ea650d4109b
LAST-MODIFIED:20190619T114202Z
SUMMARY:Vortrag Claudia Hattendorf
DTSTART:20160601T170000Z
DTEND:20160601T180000Z
DESCRIPTION:Vortrag Claudia Hattendorf: Bild und Augenzeugenschaft. Vi
 suelle Wahrheitsbezeugungen in Frankreich um 1800
LOCATION:Zentralinstitut für Kunstgeschichte\, Vortragssaal 242\, II. OG\, Katharina-von-Bora-Straße 10\, 80333 München
CATEGORIES:2016
CLASS:PUBLIC
END:VEVENT
END:VCALENDAR
