BEGIN:VCALENDAR
PRODID:-//AT Content Types//AT Event//EN
VERSION:2.0
METHOD:PUBLISH
BEGIN:VEVENT
DTSTAMP:20260421T083048Z
CREATED:20160216T134510Z
UID:ATEvent-b4ef317e30fa483aad0d367fe6e3bac4
LAST-MODIFIED:20190619T114151Z
SUMMARY:Vortrag Hansgeorg Bankel
DTSTART:20160525T161500Z
DTEND:20160525T180000Z
DESCRIPTION:Vortrag Hansgeorg Bankel: Ein archäologischer Blick auf C
 arl Rottmanns Landschaften mit Bildthemen aus Italien und Griechenland
 
LOCATION:Zentralinstitut für Kunstgeschichte\, Vortragsraum 242\, II. OG\, Katharina-von-Bora-Straße 10\, 80333 München
CATEGORIES:2016
CLASS:PUBLIC
END:VEVENT
END:VCALENDAR
