BEGIN:VCALENDAR
PRODID:-//AT Content Types//AT Event//EN
VERSION:2.0
METHOD:PUBLISH
BEGIN:VEVENT
DTSTAMP:20260419T164413Z
CREATED:20160801T092953Z
UID:ATEvent-ef2ad2529f7c44f48f32e2895f17836b
LAST-MODIFIED:20250326T095651Z
SUMMARY:Vortrag Margit Kern
DTSTART:20161130T171500Z
DTEND:20161130T190000Z
DESCRIPTION:Vortrag Margit Kern: "Hieroglyphen des Glaubens. Missionar
 e als Akteure in transkulturellen Aushandlungsprozessen und die Bildth
 eorien der Mission in Neuspanien (Mexiko)"
LOCATION:Zentralinstitut für Kunstgeschichte\, Vortragsraum 242\, II. OG\, Katharina-von-Bora-Straße 10\, 80333 München
CATEGORIES:2016, Reihe Global Arts
CLASS:PUBLIC
END:VEVENT
END:VCALENDAR
