BEGIN:VCALENDAR
PRODID:-//AT Content Types//AT Event//EN
VERSION:1.0
BEGIN:VEVENT
DTSTART:20161012T161500Z
DTEND:20161012T180000Z
DCREATED:20160524T152353Z
UID:ATEvent-96030cadeb434e2b820a6016c838165b
SEQUENCE:0
LAST-MODIFIED:20190523T082021Z
SUMMARY:Vortrag Martin Gaier
DESCRIPTION:Vortrag Martin Gaier:Die Mühen des Tizian. Zum Künstlers
 elbstverständnis in Venedig
LOCATION:Zentralinstitut für Kunstgeschichte\, Vortragsraum 242\, II. OG\, Katharina-von-Bora-Straße 10\, 80333 München
PRIORITY:3
TRANSP:0
END:VEVENT
END:VCALENDAR
