BEGIN:VCALENDAR
PRODID:-//AT Content Types//AT Event//EN
VERSION:1.0
BEGIN:VEVENT
DTSTART:20161207T171500Z
DTEND:20161207T190000Z
DCREATED:20160801T093539Z
UID:ATEvent-795e3a5db5614f45a1c39405a3f6493a
SEQUENCE:0
LAST-MODIFIED:20250326T095643Z
SUMMARY:Vortrag Matteo Burioni
DESCRIPTION:Vortrag Matteo Burioni: „Und laß mir ein jeden Ort für
  mein Vaterland gefallen“. Das reisende Museum der Weltkulturen von 
 Pietro della Valle (1586-1652) in Konstantinopel\, Isfahan\, Goa und R
 om.
LOCATION:Zentralinstitut für Kunstgeschichte\, Vortragsraum 242\, II. OG\, Katharina-von-Bora-Straße 10\, 80333 München
PRIORITY:3
TRANSP:0
END:VEVENT
END:VCALENDAR
