BEGIN:VCALENDAR
PRODID:-//AT Content Types//AT Event//EN
VERSION:2.0
METHOD:PUBLISH
BEGIN:VEVENT
DTSTAMP:20260420T143823Z
CREATED:20160801T092543Z
UID:ATEvent-ecc220aab62e4ab9a8a978a542c60166
LAST-MODIFIED:20250326T095659Z
SUMMARY:Vortrag Shane McCausland
DTSTART:20161123T171500Z
DTEND:20161123T190000Z
DESCRIPTION:Vortrag Shane McCausland: Text-Image Dynamics in the Arts 
 of Late Ming China (1368-1644)
LOCATION:Zentralinstitut für Kunstgeschichte\, Vortragsraum 242\, II. OG\, Katharina-von-Bora-Straße 10\, 80333 München
CATEGORIES:2016, Reihe Global Arts
CLASS:PUBLIC
END:VEVENT
END:VCALENDAR
