BEGIN:VCALENDAR
PRODID:-//AT Content Types//AT Event//EN
VERSION:2.0
METHOD:PUBLISH
BEGIN:VEVENT
DTSTAMP:20260422T151326Z
CREATED:20151218T092047Z
UID:ATEvent-e6c52985b0d4412a9ecb99ab556e79c8
LAST-MODIFIED:20190619T113951Z
SUMMARY:Vortrag Steffi Roettgen
DTSTART:20160314T171500Z
DTEND:20160314T190000Z
DESCRIPTION:Vortrag Steffi Roettgen: Der Epochen-Reader Renaissance â€
 “ Ein Themenportal auf artihistoricum.net \nEnde gut â€“ alles gut? Da
 s Tutorial "Renaissance" und seine Genese 2006-2016
LOCATION:Zentralinstitut fÃ¼r Kunstgeschichte\, Vortragssaal Raum 242\, II. OG\, Katharina-von-Bora-StraÃŸe 10\, 80333 MÃ¼nchen
CATEGORIES:2016
CLASS:PUBLIC
END:VEVENT
END:VCALENDAR
