BEGIN:VCALENDAR
PRODID:-//AT Content Types//AT Event//EN
VERSION:1.0
BEGIN:VEVENT
DTSTART:20160427T180000Z
DTEND:20160427T190000Z
DCREATED:20160309T202250Z
UID:ATEvent-54fe67a4ad7b4ab295fcde41e8c47877
SEQUENCE:0
LAST-MODIFIED:20241016T110132Z
SUMMARY:The Hugo Helbing Lecture 2016 //  Thomas W. Gaehtgens: Die G. Cramer Galerie\, Den Haag\, im Zweiten Weltkrieg – Provenienzforschung am Getty Research Institute
DESCRIPTION:Anlässlich der Schenkung von annotierten Katalogen an das
  Zentralinstitut für Kunstgeschichte
LOCATION:Zentralinstitut für Kunstgeschichte\, Vortragssaal Raum 242\, II. OG\, Katharina-von-Bora-Straße 10\, 80333 München
PRIORITY:3
TRANSP:0
END:VEVENT
END:VCALENDAR
