BEGIN:VCALENDAR
PRODID:-//AT Content Types//AT Event//EN
VERSION:1.0
BEGIN:VEVENT
DTSTART:20160203T171500Z
DTEND:20160203T190000Z
DCREATED:20150921T082817Z
UID:ATEvent-35ae0c7e1fe14ded96163acdedb3e902
SEQUENCE:0
LAST-MODIFIED:20250326T095941Z
SUMMARY:Vortrag Vinzenz Hediger
DESCRIPTION:Vortrag Vinzenz Hediger: Was kommt nach der "post-medium c
 ondition"? Überlegungen zum Film als Medium in permanenter Transforma
 tion ausgehend von Jean-Luc Godards "Adieu au Langage"
LOCATION:Zentralinstitut für Kunstgeschichte\, Vortragsraum 242\, II. OG\, Katharina-von-Bora-Straße 10\, 80333 München
PRIORITY:3
TRANSP:0
END:VEVENT
END:VCALENDAR
