BEGIN:VCALENDAR
PRODID:-//AT Content Types//AT Event//EN
VERSION:1.0
BEGIN:VEVENT
DTSTART:20160510T160000Z
DTEND:20160510T173000Z
DCREATED:20160502T155127Z
UID:ATEvent-4c094a6cd89a45849e4addecc61234a6
SEQUENCE:0
LAST-MODIFIED:20190619T114127Z
SUMMARY:Vortrag Walter Grasskamp
LOCATION:Akademie der Bildenden Künste\, Aula\, Akademiestraße 2-4\, 80799 München
PRIORITY:3
TRANSP:0
END:VEVENT
END:VCALENDAR
