BEGIN:VCALENDAR
PRODID:-//AT Content Types//AT Event//EN
VERSION:2.0
METHOD:PUBLISH
BEGIN:VEVENT
DTSTAMP:20260424T091448Z
CREATED:20160916T100711Z
UID:ATEvent-3a65a9921c7d48058d1ca1eb5d20a870
LAST-MODIFIED:20190523T081818Z
SUMMARY:Workshop Gábor Endrödi
DTSTART:20161117T130000Z
DTEND:20161117T140000Z
DESCRIPTION:Workshop Gábor Endrödi: Hans Schrotbanck\, der Meister d
 er Anshelmschen Offizien
LOCATION:Zentralinstitut für Kunstgeschichte\, II. OG.\, R 242\, Katharina-von-Bora-Straße 10\, 80333 München
CATEGORIES:2016
CLASS:PUBLIC
END:VEVENT
END:VCALENDAR
