BEGIN:VCALENDAR
PRODID:-//AT Content Types//AT Event//EN
VERSION:1.0
BEGIN:VEVENT
DTSTART:20161103T130000Z
DTEND:20161103T140000Z
DCREATED:20160920T134451Z
UID:ATEvent-f0c97e6c904f4b3ca061c883def0eeb7
SEQUENCE:0
LAST-MODIFIED:20190523T081907Z
SUMMARY:Workshop Hyewon Yoon
DESCRIPTION:Workshop Hyewon Yoon: "Frankfurt - Paris: GisÃ¨le Freundâ€
 ™s Portraits\, 1938-1940 "
LOCATION:Zentralinstitut fÃ¼r Kunstgeschichte\, Vortragssaal Raum 242\, II. OG\, Katharina-von-Bora-StraÃŸe 10\, 80333 MÃ¼nchen
PRIORITY:3
TRANSP:0
END:VEVENT
END:VCALENDAR
