BEGIN:VCALENDAR
PRODID:-//AT Content Types//AT Event//EN
VERSION:2.0
METHOD:PUBLISH
BEGIN:VEVENT
DTSTAMP:20260422T175152Z
CREATED:20161021T151021Z
UID:ATEvent-39fe6208f51b4c2da9e8cc4f031efbb4
LAST-MODIFIED:20190523T081843Z
SUMMARY:Workshop Stefanie Gerke
DTSTART:20161110T130000Z
DTEND:20161110T140000Z
DESCRIPTION:Workshop Stefanie Gerke: Moderne Ruinen. Zu ‚neo-erhaben
 en’ Darstellungsformen in der zeitgenössischen Kunst
LOCATION:Zentralinstitut für Kunstgeschichte\, Vortragssaal Raum 242\, II. OG\, Katharina-von-Bora-Straße 10\, 80333 München
CATEGORIES:2016
CLASS:PUBLIC
END:VEVENT
END:VCALENDAR
