BEGIN:VCALENDAR
PRODID:-//AT Content Types//AT Event//EN
VERSION:2.0
METHOD:PUBLISH
BEGIN:VEVENT
DTSTAMP:20260421T233330Z
CREATED:20160215T092421Z
UID:ATEvent-80c035fd11e34a8facb78bc97e543dff
LAST-MODIFIED:20190619T113753Z
SUMMARY:Workshop Tilo Reifenstein
DTSTART:20160217T130000Z
DTEND:20160217T140000Z
DESCRIPTION:Workshop Tilo Reifenstein: Beyond Blank: Considering Paper
  through Raymond Pettibon’s and Michaël Borremans’ Drawing-Writin
 g
LOCATION:Zentralinstitut für Kunstgeschichte\, Vortragssaal Raum 242\, II. OG\, Katharina-von-Bora-Straße 10\, 80333 München
CATEGORIES:2016
CLASS:PUBLIC
END:VEVENT
END:VCALENDAR
