BEGIN:VCALENDAR
PRODID:-//AT Content Types//AT Event//EN
VERSION:2.0
METHOD:PUBLISH
BEGIN:VEVENT
DTSTAMP:20260426T021955Z
CREATED:20160505T100041Z
UID:ATEvent-19d94d6957e04429b7a0db17e37669c4
LAST-MODIFIED:20260209T123938Z
SUMMARY:ZEUGENBEFRAGUNG III: Wilhelm Christoph Warning im Gespräch mit Carla Schulz-Hoffmann\, Bernd Klüser und Brita Sachs
DTSTART:20160628T180000Z
DTEND:20160628T194500Z
DESCRIPTION:ZEUGENBEFRAGUNG III\nMarktplatz Museum? – Eine Instituti
 on im Wandel
LOCATION:Zentralinstitut für Kunstgeschichte\, nördlicher Lichthof\, EG\, Katharina-von-Bora-Str. 10\, 80333 München
CATEGORIES:2016, Studienzentrum zur Moderne – Bibliothek Herzog Franz von Bayern am Zentralinstitut für Kunstgeschichte
CLASS:PUBLIC
END:VEVENT
END:VCALENDAR
