BEGIN:VCALENDAR
PRODID:-//AT Content Types//AT Event//EN
VERSION:2.0
METHOD:PUBLISH
BEGIN:VEVENT
DTSTAMP:20260420T201204Z
CREATED:20160920T085414Z
UID:ATEvent-02b8291f2d664affa5e423bd726150af
LAST-MODIFIED:20260209T123817Z
SUMMARY:ZEUGENBEFRAGUNG IV:  Wilhelm Christoph Warning im Gespräch mit Herlinde Koelbl\, Ulrich Pohlmann und Karsten de Riese
DTSTART:20161122T180000Z
DTEND:20161122T200000Z
DESCRIPTION:ZEUGENBEFRAGUNG IV:  Wilhelm Christoph Warning im Gespräc
 h mit Herlinde Koelbl\, Ulrich Pohlmann und Karsten de Riese
LOCATION:Zentralinstitut für Kunstgeschichte\, Großer Lesesaal\, I. OG\, Katharina-von-Bora-Straße 10\, 80333 München
CATEGORIES:2016, Studienzentrum zur Moderne – Bibliothek Herzog Franz von Bayern am Zentralinstitut für Kunstgeschichte
CLASS:PUBLIC
END:VEVENT
END:VCALENDAR
