BEGIN:VCALENDAR
PRODID:-//AT Content Types//AT Event//EN
VERSION:1.0
BEGIN:VEVENT
DTSTART:20170914T163000Z
DTEND:20170914T180000Z
DCREATED:20170712T095253Z
UID:ATEvent-616acc6659d540f7b73c53d8a4256d83
SEQUENCE:0
LAST-MODIFIED:20190523T080359Z
SUMMARY:Ästhetiken der Reproduktion: Öffentliche Podiumsdiskussion
DESCRIPTION:Ästhetiken der Reproduktion: Öffentliche Podiumsdiskussi
 on
LOCATION:Museum Brandhorst\, Türkenstrasse 19\, 80333 München\, Foyer
PRIORITY:3
TRANSP:0
END:VEVENT
END:VCALENDAR
