BEGIN:VCALENDAR
PRODID:-//AT Content Types//AT Event//EN
VERSION:1.0
BEGIN:VEVENT
DTSTART:20170614T120000Z
DTEND:20170614T140000Z
DCREATED:20170404T095708Z
UID:ATEvent-240dc05b559c4f77a896846c1e114f3a
SEQUENCE:0
LAST-MODIFIED:20190523T080806Z
SUMMARY:Current Research. Lektüreseminar am ZI mit Jochen Koubek
DESCRIPTION:Lektüreseminar: "Game Studies: Medium\, Geschichte\, Kör
 per"
LOCATION:Zentralinstitut für Kunstgeschichte\, Vortragsraum 242\, II. OG\, Katharina-von-Bora-Straße 10\, 80333 München
PRIORITY:3
TRANSP:0
END:VEVENT
END:VCALENDAR
