BEGIN:VCALENDAR
PRODID:-//AT Content Types//AT Event//EN
VERSION:2.0
METHOD:PUBLISH
BEGIN:VEVENT
DTSTAMP:20260421T103858Z
CREATED:20160817T075249Z
UID:ATEvent-0825d3cb549545a89ed147d1b6b51cc8
LAST-MODIFIED:20190523T080105Z
SUMMARY:Current Research. Lektüreseminar am ZI mit Michael Hagner
DTSTART:20170111T131500Z
DTEND:20170111T144500Z
DESCRIPTION:Current Research. Lektüreseminar am ZI mit Michael Hagner
 : „Das Fotobuch als Buch“
LOCATION:Zentralinstitut für Kunstgeschichte\, Vortragsraum 242\, II. OG\, Katharina-von-Bora-Straße 10\, 80333 München
CATEGORIES:2017
CLASS:PUBLIC
END:VEVENT
END:VCALENDAR
