BEGIN:VCALENDAR
PRODID:-//AT Content Types//AT Event//EN
VERSION:2.0
METHOD:PUBLISH
BEGIN:VEVENT
DTSTAMP:20260420T011042Z
CREATED:20170123T094800Z
UID:ATEvent-472ad2a6e69f4d86951e49828505098e
LAST-MODIFIED:20190523T080059Z
SUMMARY:Führung: NSDAP-Parteizentrum
DTSTART:20170509T160000Z
DTEND:20170509T180000Z
DESCRIPTION:Öffentliche Führung zur Geschichte des NSDAP-Parteizentr
 ums
LOCATION:Zentralinstitut für Kunstgeschichte\, Katharina-von-Bora-Straße 10\, 80333 München\, Eingangshalle
CATEGORIES:2017
CLASS:PUBLIC
END:VEVENT
END:VCALENDAR
