BEGIN:VCALENDAR
PRODID:-//AT Content Types//AT Event//EN
VERSION:1.0
BEGIN:VEVENT
DTSTART:20171107T170000Z
DTEND:20171107T190000Z
DCREATED:20170620T081922Z
UID:ATEvent-b9402d58fd254c1c9812f27912d7cd01
SEQUENCE:0
LAST-MODIFIED:20190523T080438Z
SUMMARY:Führung: NSDAP-Parteizentrum
DESCRIPTION:Öffentliche Führung zur Geschichte des NSDAP-Parteizentr
 ums
LOCATION:Zentralinstitut für Kunstgeschichte\, Katharina-von-Bora-Straße 10\, 80333 München\, Eingangshalle
PRIORITY:3
TRANSP:0
END:VEVENT
END:VCALENDAR
