BEGIN:VCALENDAR
PRODID:-//AT Content Types//AT Event//EN
VERSION:1.0
BEGIN:VEVENT
DTSTART:20171206T090000Z
DTEND:20171206T170000Z
DCREATED:20170801T072907Z
UID:ATEvent-4f25fe3a5f5a4ca1a226289ce387e1b4
SEQUENCE:0
LAST-MODIFIED:20190523T080314Z
SUMMARY:Kunsthistorischer Büchermarkt
DESCRIPTION:Büchermarkt für aktuelle und antiquarische Fachliteratur
 
LOCATION:Zentralinstitut für Kunstgeschichte\, nördlicher Lichthof\, I. OG\, Katharina-von-Bora-Straße 10\, 80333 München
PRIORITY:3
TRANSP:0
END:VEVENT
END:VCALENDAR
