BEGIN:VCALENDAR
PRODID:-//AT Content Types//AT Event//EN
VERSION:2.0
METHOD:PUBLISH
BEGIN:VEVENT
DTSTAMP:20260421T190211Z
CREATED:20170713T101141Z
UID:ATEvent-77c749db6df64d68a965bd20439e4419
LAST-MODIFIED:20241127T104531Z
SUMMARY:Neue Forschungen zur Hofkultur des 18. Jahrhunderts/Teil II
DTSTART:20171206T153000Z
DTEND:20171206T184500Z
DESCRIPTION:Rom und Paris in Schwerin: Jean-Laurent Le Geay (1710-1786
 ) - Architektur und Gartenkunst
LOCATION:Zentralinstitut für Kunstgeschichte\, Katharina-von-Bora-Str. 10\, München\, Vortragssaal 242\, II. OG
CATEGORIES:2017
CLASS:PUBLIC
END:VEVENT
END:VCALENDAR
