BEGIN:VCALENDAR
PRODID:-//AT Content Types//AT Event//EN
VERSION:2.0
METHOD:PUBLISH
BEGIN:VEVENT
DTSTAMP:20260423T073702Z
CREATED:20170209T141909Z
UID:ATEvent-a1f312db94b1475e97f6fc100af01500
LAST-MODIFIED:20250103T085750Z
SUMMARY:The Hugo Helbing Lecture 2017 // Craig Clunas: Marketing Art in China from Ming to Modernity
DTSTART:20170426T170000Z
DTEND:20170426T190000Z
DESCRIPTION:This lecture is part of the Hugo Helbing Lecture Series. â
 €˜The Hugo Helbing Lecture â€“ Exploring the Art Marketâ€™ commemorate
 s the achievements of Hugo Helbing every year. It was first held in 20
 16 on the occasion of the donation of annotated auction catalogues fro
 m his firm to the Zentralinstitut fÃ¼r Kunstgeschichte\, Munich.
LOCATION:Zentralinstitut fÃ¼r Kunstgeschichte\, Lesesaal Bibliothek\, 1.OG\, Katharina-von-Bora-StraÃŸe 10\, 80333 MÃ¼nchen
CATEGORIES:Provenienzforschung, The Hugo Helbing Lecture, 2017
CLASS:PUBLIC
END:VEVENT
END:VCALENDAR
