BEGIN:VCALENDAR
PRODID:-//AT Content Types//AT Event//EN
VERSION:2.0
METHOD:PUBLISH
BEGIN:VEVENT
DTSTAMP:20260423T131553Z
CREATED:20170210T131420Z
UID:ATEvent-4437ee71608b465db1cf5295f6763492
LAST-MODIFIED:20230120T143716Z
SUMMARY:Vergabe Wolfgang-Ratjen-Preis 2017
DTSTART:20170524T161500Z
DTEND:20170524T162000Z
DESCRIPTION:Vergabe des Wolfgang-Ratjen-Preises 2017 für herausragend
 e Forschungsarbeiten zur Geschichte der graphischen Künste
LOCATION:Zentralinstitut für Kunstgeschichte\, Vortragsraum 242\, II. OG\, Katharina-von-Bora-Straße 10\, 80333 München
CATEGORIES:2017
CLASS:PUBLIC
END:VEVENT
END:VCALENDAR
