BEGIN:VCALENDAR
PRODID:-//AT Content Types//AT Event//EN
VERSION:2.0
METHOD:PUBLISH
BEGIN:VEVENT
DTSTAMP:20260420T103850Z
CREATED:20170706T102811Z
UID:ATEvent-924a641b148349999b1e548f9b902efd
LAST-MODIFIED:20241016T104037Z
SUMMARY:Buchpräsentation „Inkarnat und Signifikanz [...]“
DTSTART:20171122T171500Z
DTEND:20171122T173000Z
DESCRIPTION:Buchpräsentation und Vorstellung der Online-Ausstellung a
 uf Google Arts & Culture: „Inkarnat und Signifikanz – Das menschli
 che Abbild in der Tafelmalerei von 200 bis 1250 im Mittelmeerraum“
LOCATION:Zentralinstitut für Kunstgeschichte\, Vortragsraum 242\, II. OG\, Katharina-von-Bora-Straße 10\, 80333 München
CATEGORIES:2017
CLASS:PUBLIC
END:VEVENT
END:VCALENDAR
