BEGIN:VCALENDAR
PRODID:-//AT Content Types//AT Event//EN
VERSION:2.0
METHOD:PUBLISH
BEGIN:VEVENT
DTSTAMP:20260420T064022Z
CREATED:20170227T114842Z
UID:ATEvent-98ca35d073cd487592eacc6375aa7bb3
LAST-MODIFIED:20190523T080755Z
SUMMARY:Vortrag Bernd Nicolai
DTSTART:20170628T161500Z
DTEND:20170628T173000Z
DESCRIPTION:Architektur der Globalisierung – wovon reden wir eigentl
 ich?\nEine kunsthistorische Perspektive
LOCATION:Zentralinstitut für Kunstgeschichte\, Vortragsraum 242\, II. OG\, Katharina-von-Bora-Straße 10\, 80333 München
CATEGORIES:2017
CLASS:PUBLIC
END:VEVENT
END:VCALENDAR
