BEGIN:VCALENDAR
PRODID:-//AT Content Types//AT Event//EN
VERSION:1.0
BEGIN:VEVENT
DTSTART:20170118T171500Z
DTEND:20170118T190000Z
DCREATED:20160801T095041Z
UID:ATEvent-f7518305294742d6b1dfebaae970f3bb
SEQUENCE:0
LAST-MODIFIED:20250326T095620Z
SUMMARY:Vortrag David Roxburgh
DESCRIPTION:Vortrag David Roxburgh: 'Magic-making sorcerers’: Timuri
 d Views on Chinese Art\, Herat\, c. 1413-1447
LOCATION:Zentralinstitut für Kunstgeschichte\, Vortragsraum 242\, II. OG\, Katharina-von-Bora-Straße 10\, 80333 München
PRIORITY:3
TRANSP:0
END:VEVENT
END:VCALENDAR
