BEGIN:VCALENDAR
PRODID:-//AT Content Types//AT Event//EN
VERSION:2.0
METHOD:PUBLISH
BEGIN:VEVENT
DTSTAMP:20260423T191307Z
CREATED:20170223T102650Z
UID:ATEvent-a91df0e6c9b94d97808b0cf2f1a87195
LAST-MODIFIED:20190523T080941Z
SUMMARY:Vortrag Gábor Endrődi
DTSTART:20170503T161500Z
DTEND:20170503T173000Z
DESCRIPTION:Ein Zeitgenosse Dürers neu entdeckt: Der Straßburger Kü
 nstler Hans Schrotbanck
CATEGORIES:2017
CLASS:PUBLIC
END:VEVENT
END:VCALENDAR
