BEGIN:VCALENDAR
PRODID:-//AT Content Types//AT Event//EN
VERSION:1.0
BEGIN:VEVENT
DTSTART:20171115T171500Z
DTEND:20171115T183000Z
DCREATED:20171026T070530Z
UID:ATEvent-32236dfa0dea478ca9b1fc8656e3aefe
SEQUENCE:0
LAST-MODIFIED:20191025T155414Z
SUMMARY:Vortrag Matt Kavaler
DESCRIPTION:Matt Kavaler: Performance and Political Agency: \nThe Brug
 es Mantelpiece to Charles V
LOCATION:Zentralinstitut für Kunstgeschichte\, Vortragsraum 242\, II. OG\, Katharina-von-Bora-Straße 10\, 80333
PRIORITY:3
TRANSP:0
END:VEVENT
END:VCALENDAR
