BEGIN:VCALENDAR
PRODID:-//AT Content Types//AT Event//EN
VERSION:1.0
BEGIN:VEVENT
DTSTART:20170913T161500Z
DTEND:20170913T173000Z
DCREATED:20170711T085251Z
UID:ATEvent-6f2e6e9a30fc4769a339ee8da85d6795
SEQUENCE:0
LAST-MODIFIED:20190523T080407Z
SUMMARY:Vortrag Sebastian Egenhofer
DESCRIPTION:„Leere Körper\, leere Räume. Warhols Ästhetik der Abs
 enz“
PRIORITY:3
TRANSP:0
END:VEVENT
END:VCALENDAR
