BEGIN:VCALENDAR
PRODID:-//AT Content Types//AT Event//EN
VERSION:2.0
METHOD:PUBLISH
BEGIN:VEVENT
DTSTAMP:20260422T034803Z
CREATED:20170919T114858Z
UID:ATEvent-341ea281b0ac48f48a09a4d69f29cfdd
LAST-MODIFIED:20190523T080308Z
SUMMARY:Workshop Heidrun Lange-Krach
DTSTART:20170928T120000Z
DTEND:20170928T133000Z
DESCRIPTION:Workshop Heidrun Lange-Kracht: Der gekrönte Poet im Küri
 ß. Ulrich von Hutten (1488-1523) und das „self-fashioning“ der Hu
 manisten
LOCATION:Zentralinstitut für Kunstgeschichte\, Vortragssaal Raum 242\, II. OG\, Katharina-von-Bora-Straße 10\, 80333 München
CATEGORIES:Wolfgang-Ratjen-Preis, 2017
CLASS:PUBLIC
END:VEVENT
END:VCALENDAR
