BEGIN:VCALENDAR
PRODID:-//AT Content Types//AT Event//EN
VERSION:2.0
METHOD:PUBLISH
BEGIN:VEVENT
DTSTAMP:20260420T220249Z
CREATED:20170919T115517Z
UID:ATEvent-ab1cb6573f4d49a5a6de5d52d500053a
LAST-MODIFIED:20190523T080256Z
SUMMARY:Workshop Marina Lopukhova
DTSTART:20171109T130000Z
DTEND:20171109T140000Z
DESCRIPTION:Workshop Marina Lopukhova: Der Codex Destailleur aus der S
 ammlung des Staatlichen Eremitage-Museums: Zum Forschungsstand
LOCATION:Zentralinstitut für Kunstgeschichte\, Vortragssaal Raum 242\, II. OG\, Katharina-von-Bora-Straße 10\, 80333 München
CATEGORIES:James Loeb Fellowship, 2017
CLASS:PUBLIC
END:VEVENT
END:VCALENDAR
