BEGIN:VCALENDAR
PRODID:-//AT Content Types//AT Event//EN
VERSION:1.0
BEGIN:VEVENT
DTSTART:20170216T130000Z
DTEND:20170216T140000Z
DCREATED:20161102T150956Z
UID:ATEvent-2d03cc0d95e94eb596fe1034714fdbcf
SEQUENCE:0
LAST-MODIFIED:20190523T081257Z
SUMMARY:Workshop Tamara Golan
DESCRIPTION:Workshop T. Golan: Vision and Inquiry in Hans Fries’ Fou
 r Panel Paintings of Sts. Francis\, Sebastian\, Bernhard\, and Anne at
  the Alte Pinakothek (1501)
LOCATION:Zentralinstitut für Kunstgeschichte\, Vortragssaal Raum 242\, II. OG\, Katharina-von-Bora-Straße 10\, 80333 München
PRIORITY:3
TRANSP:0
END:VEVENT
END:VCALENDAR
