BEGIN:VCALENDAR
PRODID:-//AT Content Types//AT Event//EN
VERSION:1.0
BEGIN:VEVENT
DTSTART:20171213T171500Z
DTEND:20171213T193000Z
DCREATED:20170724T073316Z
UID:ATEvent-dd5061ec2e4a4d18abbb9e17df34bbe9
SEQUENCE:0
LAST-MODIFIED:20190523T080333Z
SUMMARY:Verabschiedung von Prof. Dr. Wolf Tegethoff
LOCATION:Zentralinstitut für Kunstgeschichte\, Lesesaal Bibliothek\, 1.OG\, Katharina-von-Bora-Straße 10\, 80333 München
PRIORITY:3
TRANSP:0
END:VEVENT
END:VCALENDAR
