BEGIN:VCALENDAR
PRODID:-//AT Content Types//AT Event//EN
VERSION:2.0
METHOD:PUBLISH
BEGIN:VEVENT
DTSTAMP:20260422T035136Z
CREATED:20180111T101932Z
UID:ATEvent-b9dcb45f9e634ead9b18a43de28a3d1b
LAST-MODIFIED:20241016T082537Z
SUMMARY:Buchpräsentation: Hans Burgkmair
DTSTART:20180418T154500Z
DTEND:20180418T161500Z
DESCRIPTION:Buchpräsentation: Hans Burgkmair – Neue Forschungen
LOCATION:Zentralinstitut für Kunstgeschichte\, Vortragsraum 242\, II. OG\, Katharina-von-Bora-Straße 10\, 80333 München
CATEGORIES:2018
CLASS:PUBLIC
END:VEVENT
END:VCALENDAR
