BEGIN:VCALENDAR
PRODID:-//AT Content Types//AT Event//EN
VERSION:2.0
METHOD:PUBLISH
BEGIN:VEVENT
DTSTAMP:20260422T114539Z
CREATED:20180322T112157Z
UID:ATEvent-ae188b076f264aa8aa2f3729d27c12c9
LAST-MODIFIED:20241016T084756Z
SUMMARY:Current Research. Lektüreseminar am ZI mit Andreas Beyer
DTSTART:20180627T120000Z
DTEND:20180627T140000Z
DESCRIPTION:Lektüreseminar: Endlich ich! Zur Frage von Künstler und 
 Individuum
LOCATION:Zentralinstitut für Kunstgeschichte\, Vortragsraum 242\, II. OG\, Katharina-von-Bora-Straße 10\, 80333 München
CATEGORIES:2018
CLASS:PUBLIC
END:VEVENT
END:VCALENDAR
