BEGIN:VCALENDAR
PRODID:-//AT Content Types//AT Event//EN
VERSION:1.0
BEGIN:VEVENT
DTSTART:20181106T170000Z
DTEND:20181106T190000Z
DCREATED:20180613T075703Z
UID:ATEvent-bbce7e6951ca4ca5b4e106b70fecbd06
SEQUENCE:0
LAST-MODIFIED:20180727T072212Z
SUMMARY:Führung: NSDAP-Parteizentrum
DESCRIPTION:Öffentliche Führung zur Geschichte des NSDAP-Parteizentr
 ums
LOCATION:Zentralinstitut für Kunstgeschichte\, Katharina-von-Bora-Straße 10\, 80333 München\, Eingangshalle
PRIORITY:3
TRANSP:0
END:VEVENT
END:VCALENDAR
