BEGIN:VCALENDAR
PRODID:-//AT Content Types//AT Event//EN
VERSION:1.0
BEGIN:VEVENT
DTSTART:20181114T171500Z
DTEND:20181114T193000Z
DCREATED:20180725T102152Z
UID:ATEvent-94f414ebf0c2420cac3775d1dfab817b
SEQUENCE:0
LAST-MODIFIED:20250326T104529Z
SUMMARY:Renaissance der Renaissance. Die Malerei des Quattrocento in Florenz / Vortrag Jill Burke
DESCRIPTION:Jill Burke: Florentine Renaissance Life Drawing. Homoeroti
 cism\, Philosophy\, and Time
LOCATION:Zentralinstitut für Kunstgeschichte\, Katharina-von-Bora-Str. 10\, München\, Vortragssaal 242\, II. OG
PRIORITY:3
TRANSP:0
END:VEVENT
END:VCALENDAR
