BEGIN:VCALENDAR
PRODID:-//AT Content Types//AT Event//EN
VERSION:2.0
METHOD:PUBLISH
BEGIN:VEVENT
DTSTAMP:20260420T215914Z
CREATED:20180313T125614Z
UID:ATEvent-7d3226af8bfb4ff78100b3efee5dce61
LAST-MODIFIED:20241127T111206Z
SUMMARY:Kolloquium: Neue Forschungen zur Gartenkunst und Freiraumplanung in München\, 1920-1945
DTSTART:20180516T133000Z
DTEND:20180516T180000Z
DESCRIPTION:Kolloquium: Neue Forschungen zur Gartenkunst und Freiraump
 lanung in München\, 1920-1945
LOCATION:Zentralinstitut für Kunstgeschichte\, Katharina-von-Bora-Str. 10\, 80333 München\, Vortragssaal 242
CATEGORIES:2018
CLASS:PUBLIC
END:VEVENT
END:VCALENDAR
