BEGIN:VCALENDAR
PRODID:-//AT Content Types//AT Event//EN
VERSION:2.0
METHOD:PUBLISH
BEGIN:VEVENT
DTSTAMP:20260423T021928Z
CREATED:20180808T103218Z
UID:ATEvent-2c1123340d064b2e949f145b5269d7d3
LAST-MODIFIED:20241127T112238Z
SUMMARY:Internationale Tagung: Marginale Zeichentechniken als ästhetische Strategie in der frühen Neuzeit
DTSTART:20181109T120000Z
DTEND:20181109T183000Z
LOCATION:Zentralinstitut für Kunstgeschichte\, Katharina-von-Bora-Str. 10\, München\, Vortragssaal 242\, II. OG
CATEGORIES:2018
CLASS:PUBLIC
END:VEVENT
END:VCALENDAR
