BEGIN:VCALENDAR
PRODID:-//AT Content Types//AT Event//EN
VERSION:2.0
METHOD:PUBLISH
BEGIN:VEVENT
DTSTAMP:20260419T193256Z
CREATED:20180214T145418Z
UID:ATEvent-c4abfcda1dd04098bdfffd18ba0c6ddf
LAST-MODIFIED:20241016T083358Z
SUMMARY:Panofsky Lecture 2018 // Caroline van Eck: Piranesi and his Museum. Style Formation\, Agency and the Revival of Antiquity in the Age of Neo-Classicism
DTSTART:20180613T161500Z
DTEND:20180613T180000Z
LOCATION:Zentralinstitut für Kunstgeschichte\, Lesesaal Bibliothek\, 1.OG\, Katharina-von-Bora-Straße 10\, 80333 München
CATEGORIES:Panofsky Lecture, 2018, Panofsky-Professur
CLASS:PUBLIC
END:VEVENT
END:VCALENDAR
