BEGIN:VCALENDAR
PRODID:-//AT Content Types//AT Event//EN
VERSION:1.0
BEGIN:VEVENT
DTSTART:20181008T150000Z
DTEND:20181008T173000Z
DCREATED:20180829T103342Z
UID:ATEvent-849f6fe268a744258bce5f49506e3feb
SEQUENCE:0
LAST-MODIFIED:20241016T093532Z
SUMMARY:PUBLIC PROGRAM (PREP) - Framing the Monuments Men: Past and Present
DESCRIPTION:PUBLIC PROGRAM (PREP) - Framing the Monuments Men: Past an
 d Present
LOCATION:Bavarian American Academy Barer Str. 19a\, 80333 München
PRIORITY:3
TRANSP:0
END:VEVENT
END:VCALENDAR
