BEGIN:VCALENDAR
PRODID:-//AT Content Types//AT Event//EN
VERSION:1.0
BEGIN:VEVENT
DTSTART:20181010T161500Z
DTEND:20181010T182000Z
DCREATED:20180904T125043Z
UID:ATEvent-ae45697e5e9a4c3f855d56bed0630366
SEQUENCE:0
LAST-MODIFIED:20241016T093756Z
SUMMARY:PUBLIC PROGRAM (PREP) - Provenance Research and Restitution: Managing Collections and Public Expectations
DESCRIPTION:PUBLIC PROGRAM (PREP) – Provenance Research and Restitut
 ion: Managing Collections and Public Expectations
LOCATION:NS-Dokumentationszentrum Max-Mannheimer-Platz 1\, 80333 München
PRIORITY:3
TRANSP:0
END:VEVENT
END:VCALENDAR
